BEGIN:VCALENDAR
VERSION:1.0
PRODID:Open2CKalenderExportV11
BEGIN:VEVENT
DTSTAMP:20240306T130925Z
DTSTART:20241206T230000Z
DTEND:20241206T230000Z
CATEGORIES:Familien
SUMMARY;CHARSET=UTF-8:Nikolausfeier Trachtenverein Kinder
DESCRIPTION;CHARSET=UTF-8: | Organisator   Trachtenverein | Kontakt   Andreas Obermaier
LOCATION;CHARSET=UTF-8:
UID:7b703cce6c587cca4b93c04529a69f80-ec53245994721f660ebe549a8f36bea5
PRIORITY:3
END:VEVENT
END:VCALENDAR