BEGIN:VCALENDAR
VERSION:1.0
PRODID:Open2CKalenderExportV11
BEGIN:VEVENT
DTSTAMP:20221018T030514Z
DTSTART:20230221T130000Z
DTEND:20230221T150000Z
CATEGORIES:Vereine
SUMMARY;CHARSET=UTF-8:Faschingsumzug
DESCRIPTION;CHARSET=UTF-8:Teilnehmer treffen sich ab 13:30 Uhr. Anmeldungen bitte bei Herrn Sterzer unter 08121- 81868. | Organisator   Theo Sterzer
LOCATION;CHARSET=UTF-8:Pliening
UID:e8e022441e486eac08e6823ce3d2c489-a620102fabfcde5ffa5b6459d91c9a3a
PRIORITY:3
END:VEVENT
END:VCALENDAR